BEGIN:VCALENDAR
VERSION:2.0
PRODID:-//Plone.org//NONSGML plone.app.event//EN
X-WR-TIMEZONE:Europe/Rome
BEGIN:VEVENT
SUMMARY:Pratiche innovative per l’assistenza primaria: esperienze intern
 azionali a confronto per la salute e il benessere delle comunità
DTSTART;TZID=Europe/Rome;VALUE=DATE-TIME:20170220T143000
DTEND;TZID=Europe/Rome;VALUE=DATE-TIME:20170224T190000
DTSTAMP;VALUE=DATE-TIME:20260423T105156Z
UID:fc5e56eccf71492e800028490ca58eb5@assr.regione.emilia-romagna.it
CONTACT:Brigida Lilia Marta\, brigidalilia.marta@gmail.com
CREATED;VALUE=DATE-TIME:20181106T155528Z
DESCRIPTION:[2017] 6° Workshop internazionale italo-brasiliano
LAST-MODIFIED;VALUE=DATE-TIME:20181108T114256Z
URL:https://assr.regione.emilia-romagna.it/eventi/2017/brasiliani/intro
END:VEVENT
BEGIN:VTIMEZONE
TZID:Europe/Rome
X-LIC-LOCATION:Europe/Rome
BEGIN:STANDARD
DTSTART;VALUE=DATE-TIME:20161030T020000
TZNAME:CET
TZOFFSETFROM:+0200
TZOFFSETTO:+0100
END:STANDARD
END:VTIMEZONE
END:VCALENDAR
