BEGIN:VCALENDAR
VERSION:2.0
PRODID:-//Plone.org//NONSGML plone.app.event//EN
X-WR-TIMEZONE:Europe/Rome
BEGIN:VEVENT
SUMMARY:EIP-AHA and Sunfrail: Preliminary results and Good practices
DTSTART;TZID=Europe/Rome;VALUE=DATE-TIME:20170405T150000
DTEND;TZID=Europe/Rome;VALUE=DATE-TIME:20170405T180000
DTSTAMP;VALUE=DATE-TIME:20260423T213712Z
UID:4eacb36e7fd14a07a3b3ba0afd813b64@assr.regione.emilia-romagna.it
CONTACT:Euregha\, secretariat@euregha.net
CREATED;VALUE=DATE-TIME:20181106T101821Z
DESCRIPTION:[2017] Seminario
LAST-MODIFIED;VALUE=DATE-TIME:20181129T150516Z
URL:https://assr.regione.emilia-romagna.it/eventi/2017/sunfrail-bruxelles/
 intro
END:VEVENT
BEGIN:VTIMEZONE
TZID:Europe/Rome
X-LIC-LOCATION:Europe/Rome
BEGIN:DAYLIGHT
DTSTART;VALUE=DATE-TIME:20170326T030000
TZNAME:CEST
TZOFFSETFROM:+0100
TZOFFSETTO:+0200
END:DAYLIGHT
END:VTIMEZONE
END:VCALENDAR
