BEGIN:VCALENDAR
VERSION:2.0
PRODID:-//Plone.org//NONSGML plone.app.event//EN
X-WR-TIMEZONE:Europe/Rome
BEGIN:VEVENT
SUMMARY:Competenze per includere: scenari del fare tra servizi e famiglie 
 LGBT
DTSTART;TZID=Europe/Rome;VALUE=DATE-TIME:20200213T093000
DTEND;TZID=Europe/Rome;VALUE=DATE-TIME:20200214T130000
DTSTAMP;VALUE=DATE-TIME:20260423T225619Z
UID:448f176fa7da4ea689fc2a20f073a5dc@assr.regione.emilia-romagna.it
CONTACT:Vanessa Vivoli\, vanessa.vivoli@regione.emilia-romagna.it
CREATED;VALUE=DATE-TIME:20200128T155944Z
DESCRIPTION:[2020] convegno DOING RIGHT(S)
LAST-MODIFIED;VALUE=DATE-TIME:20200212T170218Z
URL:https://assr.regione.emilia-romagna.it/eventi/2020/competenze-per-incl
 udere/intro
END:VEVENT
BEGIN:VTIMEZONE
TZID:Europe/Rome
X-LIC-LOCATION:Europe/Rome
BEGIN:STANDARD
DTSTART;VALUE=DATE-TIME:20191027T020000
TZNAME:CET
TZOFFSETFROM:+0200
TZOFFSETTO:+0100
END:STANDARD
END:VTIMEZONE
END:VCALENDAR
